Workbook

Sheet READ ME
C2: Purpose of the Data Mapping Exercise
B3: This Data Mapping document was used to assess data collected through UNICEF Tajikistan's reporting processes and get an overall picture of UNICEF's intervention accross Goal Areas. This exercise was conducted at an early stage during the desk review and inception phase and aimed at identifying what data is available in Tajikistan, what is the data environement (what gaps can be identified in data collection, which entities are collecting data). Data included in this mapping exercise was extracted from several UNICEF reports (COARs, RAMs, SMQs) as well as additional reports, evaluations and baseline studies provided in the library for the desk review). Each tab (Learn, Survive and Thrive, Protective Environment, ADAP, Cross-sectoral or other) contain data collected from these different sources. The Baseline data and progress tab contains data collected from the RAM 2019 and SMQ 2019 (with the latest updated data) and was used to assess progress against indicators in the different outcome areas.
A21: Use the filter buttons to select data
A23: Tabs 1-5 | B23: Year | C23: Area | D23: Goal/Outcome | E23: Indicator | F23: Data source | G23: UNICEF or other | H23: Dis Sex | I23: Dis Age | J23: Dis Urb/Rural | K23: Comment
B24: Within each sheet, the data has been categorised according to the year or latest year of collection, goal areas and area of intervention, indicator found, document source and organisation reporting the data (UNICEF or other). | H24: Three colums indicate whether the data found has been disagregated by age, sex and rural/urban areas. | K24: The comments section provides additional information collected on the data. These comments are either extracted from UNICEF documentation and give more details about the data or list target set for some data sets.
E32: Evidence Map
A34: Evidence mapping tab.
E35: The evidence mapping is a data visualization tool. It presents a visual overview of data collected in intervention areas as well as outcome areas to helop identify existing sources of information as well as gaps.
A38: Goal/Outcome | C38: Learning outcomes | E38: The colour patern is used for better visualization of existing data and gaps.
A39: Nb of Entries | C39: 12 | E39: This number indicates the amount of data collected per outcome area
A40: UNICEF Reports | C40: 6 | E40: This number indicates how many of the entries where found in UNICEF sources (COARS, RAMs, SMQs etc.)
A41: Other sources | C41: 7 | E41: This number indicates how many entries were found in reports/sources from non-UNICEF sources
A42: Nb of data disaggregated by sex | C42: 1 | E42: This shows how many indicators or data are disagregated according to sex, age or rural/urban in each outcome areas
A43: Nb of data disaggregated by age | C43: 3
A44: Nb of data disaggregated by Urban/Rural | C44: 1
A59: Baseline tab | B59: Goal Area | C59: Indicator | D59: Baseline | F59: Target | H59: Progress | J59: Source | K59: Comments
D60: Year | E60: Value | F60: Year | G60: Value | H60: Year | I60: Value
B61: The information in this table is similar to information contained in RAM and SMQ and was adapted for easier analysis.

Sheet LEARN
A1: Year | B1: Area | C1: Goal/Outcome | D1: Indicator | E1: Data source | F1: UNICEF or other | G1: INDIC_UNICEForNot | H1: Qualitative or Quantitative | I1: Yes if Quant | J1: Dis Sex | K1: INDIC_Dis Sex | L1: Dis Age | M1: INDIC_Dis Age | N1: Dis Urb/Rural | O1: INDIC_Dis Urb/Rural | P1: Cross-referenced w/ RAM | Q1: Comment
A2: 2019 | B2: Education - Learn | C2: C4D | D2: UNICEF Magic Box TV animation series were broadcast nationally targeting over 70,000 children | E2: COAR 2019 | F2: UNICEF | G2: =IF(F2="UNICEF",1,0) -> 1 | H2: Qual | I2: =IF(H2 = "Quant", 1, 0) -> 0 | J2: No | K2: =IF(J2="Yes",1,0) -> 0 | L2: No | M2: =IF(L2="Yes",1,0) -> 0 | N2: No | O2: =IF(N2="Yes",1,0) -> 0
A3: 2018 | C3: Children with Disabilities | D3: The enrolment of children with disabilities in formal education increased by five percent over the last years, with the total of 6,584 children (2,611 girls) in Grades one to 11 in 2017-2018 school year, which is about 25% of officially registered children with disabilities. | E3: RAM 2018 | F3: EMIS data | G3: =IF(F3="UNICEF",1,0) -> 0 | H3: Qual | I3: =IF(H3 = "Quant", 1, 0) -> 0 | J3: Yes | K3: =IF(J3="Yes",1,0) -> 1 | L3: Yes | M3: =IF(L3="Yes",1,0) -> 1 | N3: No | O3: =IF(N3="Yes",1,0) -> 0 | P3: Yes
A4: 2019 | C4: Children with Disabilities | D4: 40 per cent of children identified with disabilities access learning opportunities but one in three are in segregated institutions | E4: EMIS 2019 | F4: EMIS 2020 | G4: =IF(F4="UNICEF",1,0) -> 0 | H4: Quant | I4: =IF(H4 = "Quant", 1, 0) -> 1 | J4: No | K4: =IF(J4="Yes",1,0) -> 0 | L4: No | M4: =IF(L4="Yes",1,0) -> 0 | N4: No | O4: =IF(N4="Yes",1,0) -> 0
A5: 2019 | C5: Children with Disabilities | D5: Less than 10 percent of children with disabilities have access to education | E5: Conservative estimates based on international WHO standards - COAR 2019 | F5: UNICEF | G5: =IF(F5="UNICEF",1,0) -> 1 | H5: Quant | I5: =IF(H5 = "Quant", 1, 0) -> 1 | J5: No | K5: =IF(J5="Yes",1,0) -> 0 | L5: No | M5: =IF(L5="Yes",1,0) -> 0 | N5: No | O5: =IF(N5="Yes",1,0) -> 0
A6: 2018 | C6: Children with Disabilities | D6: Attitudes towards people with disabilities | E6: Baseline study on Knowledge, Attitudes, Behaviours and Practices related to Children and Women with Disabilities in Tajikistan, 2019 | F6: UNICEF | G6: No | H6: Qual | I6: =IF(H6 = "Quant", 1, 0) -> 0 | J6: No | K6: Yes | L6: No | N6: No
A7: 2015 | C7: Children with Disabilities | D7: In 2015 there were only 12 special schools for children with mental and physical special needs | E7: Tajikistan in Figures, TajStat 2015 | F7: TajStat 2016 | G7: Does not apply | H7: Qual | I7: =IF(H7 = "Quant", 1, 0) -> 0 | J7: Does not apply | K7: No | L7: No | N7: No
A8: 2018 | C8: Children with Disabilities | D8: In 2018 there were an estimated 50,800 children with disabilities in Tajikistan with just over half recepient to a social pension from the government | E8: Adolescents Baseline Study, 2018 | F8: UNICEF | G8: No | H8: Quant | I8: =IF(H8 = "Quant", 1, 0) -> 1 | J8: No | K8: No | L8: No | M8: Many disabled children and children with specific health needs are not registered with the authorities, owing to fear of family or community stigma, and are therefore hidden from the numbers reported. | N8: No
A9: 2016 | C9: Children with Disabilities | D9: 24,000 children (up to 18 years old) were registered with disabilities by authorities in 2016, of whom 5,600 children attended schools. | E9: Mapping the Vulnerable and Excluded Groups of adolescents and youth in Tajikistan, UNICEF 2017 | F9: UNICEF | G9: No | H9: Quant | I9: =IF(H9 = "Quant", 1, 0) -> 1 | J9: No | K9: No | L9: No | N9: No
A10: 2009 | C10: Children with Disabilities | D10: Children with disabilities represent 80% of out-of-school children | E10: OECD 2009 | F10: OECD 2010 | G10: No | H10: Quant | I10: =IF(H10 = "Quant", 1, 0) -> 1 | J10: No | K10: No | L10: No | N10: No
A11: 2018 | C11: Competency-based education | D11: A resource pack on competence-based learning was completed with a focus on key peacebuilding skills. During 2018, 4,971 children (2,393 girls) and adolescents in five districts enhanced their competencies in problem-solving, creativity and innovation, critical thinking and goal setting through work with student councils. About 140 teachers and local education officials are commissioned to deliver this gender-sensitive and equity-focused model. | E11: COAR 2018 | F11: UNICEF | G11: =IF(F11="UNICEF",1,0) -> 1 | H11: Quant | I11: =IF(H11 = "Quant", 1, 0) -> 1 | J11: Yes | K11: =IF(J11="Yes",1,0) -> 1 | L11: No | M11: =IF(L11="Yes",1,0) -> 0 | N11: yes | O11: =IF(N11="Yes",1,0) -> 1
A12: 2016 | C12: Early childhood Education | D12: A campaign to promote early childhood education (ECE) was lauched nationwide featuring a locally designed animation programme aimed at reaching 70 % of children 3-6 years of age. | E12: COAR 2016 | F12: UNICEF | G12: =IF(F12="UNICEF",1,0) -> 1 | H12: Qual | I12: =IF(H12 = "Quant", 1, 0) -> 0 | J12: No | K12: =IF(J12="Yes",1,0) -> 0 | L12: Yes | M12: =IF(L12="Yes",1,0) -> 1 | N12: No | O12: =IF(N12="Yes",1,0) -> 0 | P12: No RAM for 2016 | Q12: This animation is the product of a collaboration that took place over several years with the Ministry of Education and Science (MoES), USAID and the Open Society Institute.
A13: 2016 | C13: Early childhood Education | D13: To assess the learning outcomes of children who benefit from ECE programmes, tools were developed and tested in 132 ECE centres in 2016. | E13: COAR 2016 | F13: UNICEF | G13: =IF(F13="UNICEF",1,0) -> 1 | H13: Qual | I13: =IF(H13 = "Quant", 1, 0) -> 0 | J13: Does not apply | K13: =IF(J13="Yes",1,0) -> 0 | L13: Does not apply | M13: =IF(L13="Yes",1,0) -> 0 | N13: No | O13: =IF(N13="Yes",1,0) -> 0 | P13: No RAM for 2016 | Q13: To generate evidence for a possible scale-up of the ECE model, UNICEF commissioned documentation of the model.
A14: 2017 | C14: Early Childhood Education | D14: 800 additional girls and boys were able to access ECE | E14: COAR 2017 | F14: UNICEF | G14: =IF(F14="UNICEF",1,0) -> 1 | H14: Quant | I14: =IF(H14 = "Quant", 1, 0) -> 1 | J14: Yes | K14: =IF(J14="Yes",1,0) -> 1 | L14: Yes | M14: =IF(L14="Yes",1,0) -> 1 | N14: Yes | O14: =IF(N14="Yes",1,0) -> 1 | P14: No RAM for 2017 | Q14: National data masks disparities in access to and quality of education for preschool-age girls, girls with disabilities, girls from minority ethnic communities and adolescent girls in rural areas.
A15: 2019 | C15: Early Childhood education | D15: In 2019, UNICEF ensured access to early learning for additional 649 children (46 per cent girls) of Tajik, Uzbek, Kyrgyz origin in six targeted areas. | E15: COAR 2019 | F15: UNICEF | G15: =IF(F15="UNICEF",1,0) -> 1 | H15: Quant | I15: =IF(H15 = "Quant", 1, 0) -> 1 | J15: Yes | K15: =IF(J15="Yes",1,0) -> 1 | L15: Yes | M15: =IF(L15="Yes",1,0) -> 1 | N15: Yes | O15: =IF(N15="Yes",1,0) -> 1 | P15: Yes | Q15: This adds to the total of 6,000 children (45 per cent girls) yearly enrolled in 240 UNICEF-supported ECE alternative centres in 20 districts since 2010.
C16: Early Childhood education | D16: 70,000 children are benefiting from early childhood education through alternative approaches (new model+ TV animation model) | E16: RAM 2019 | F16: UNICEF | G16: =IF(F16="UNICEF",1,0) -> 1 | H16: Quant | I16: =IF(H16 = "Quant", 1, 0) -> 1 | J16: No | K16: =IF(J16="Yes",1,0) -> 0 | L16: No | M16: =IF(L16="Yes",1,0) -> 0 | N16: No | O16: =IF(N16="Yes",1,0) -> 0 | P16: Yes | Q16: Target was reached in 2019, target for 2020 is 100,000
A17: 2019 | C17: Early Childhood education | D17: The enrolment rate of children aged three to six increased from 13.9 per cent in 2017-2018 school year to 14.7 per cent in 2018-2019 (an increase of 6,219 children) | E17: COAR 2019 | F17: UNICEF | G17: =IF(F17="UNICEF",1,0) -> 1 | H17: Quant | I17: =IF(H17 = "Quant", 1, 0) -> 1 | J17: No | K17: =IF(J17="Yes",1,0) -> 0 | L17: Yes | M17: =IF(L17="Yes",1,0) -> 1 | N17: No | O17: =IF(N17="Yes",1,0) -> 0
A18: 2019 | C18: Early childhood Education | D18: Only 15 out of 100 children attend preschools | E18: Ministry of Education and Science | F18: Ministry of Education and Science | G18: =IF(F18="UNICEF",1,0) -> 0 | H18: Quant | I18: =IF(H18 = "Quant", 1, 0) -> 1 | J18: No | K18: =IF(J18="Yes",1,0) -> 0 | L18: No | M18: =IF(L18="Yes",1,0) -> 0 | N18: No | O18: =IF(N18="Yes",1,0) -> 0
A19: 2018 | C19: Early childhood Education | D19: 12,5% of Tajik children (including 54,576 girls) are enrolled in Early Childhood Education centers. | E19: Vulnerability and Resilience Atlas 2018 | F19: Vulnerability and Resilience Atlas 2018 | G19: =IF(F19="UNICEF",1,0) -> 0 | H19: Quant | I19: =IF(H19 = "Quant", 1, 0) -> 1 | J19: Yes | K19: =IF(J19="Yes",1,0) -> 1 | L19: Yes | M19: =IF(L19="Yes",1,0) -> 1 | N19: No | O19: =IF(N19="Yes",1,0) -> 0
A20: 2017 | C20: Early childhood Education | D20: Number of children in state pre-school institution : 91,081 of which 10,988 under 3 years old, 77,323 between 3 and 6 years old, 2,770 7 years old. | E20: Joint Sector Review Education Sector Synthesis Report 2017 | F20: Joint Sector Review Education Sector Synthesis Report 2017 | G20: =IF(F20="UNICEF",1,0) -> 0 | H20: Quant | I20: =IF(H20 = "Quant", 1, 0) -> 1 | J20: No | K20: =IF(J20="Yes",1,0) -> 0 | L20: Yes | M20: =IF(L20="Yes",1,0) -> 1 | N20: No | O20: =IF(N20="Yes",1,0) -> 0
A21: 2017 | C21: Early childhood Education | D21: Number of State pre-school institutions : total of 602 institution of which 1 nurserie, 332 day care centers, 262 kindergartens and 7 nursery-schools | E21: Joint Sector Review Education Sector Synthesis Report 2017 | F21: Joint Sector Review Education Sector Synthesis Report 2017 | G21: =IF(F21="UNICEF",1,0) -> 0 | H21: Qual | I21: =IF(H21 = "Quant", 1, 0) -> 0 | J21: Does not apply | K21: =IF(J21="Yes",1,0) -> 0 | L21: Does not apply | M21: =IF(L21="Yes",1,0) -> 0 | N21: No | O21: =IF(N21="Yes",1,0) -> 0
A22: 2019 | C22: Equitable access to quality education | D22: Number of out-of-school girls and boys who participated in early learning, primary or secondary education through UNICEF-supported programmes | E22: SMQ 2019 Learn | F22: UNICEF | G22: =IF(F22="UNICEF",1,0) -> 1 | H22: Quant | I22: =IF(H22 = "Quant", 1, 0) -> 1 | J22: Yes | K22: =IF(J22="Yes",1,0) -> 1 | L22: No | M22: =IF(L22="Yes",1,0) -> 0 | N22: No | O22: =IF(N22="Yes",1,0) -> 0 | P22: Yes | Q22: Data available for 2018 & 2019
A23: 2019 | C23: Equitable access to quality education | D23: Girls and boys targeted by UNICEF as a share of girls and boys targeted by all partners for early learning or education support in humanitarian situations | E23: SMQ 2019 Learn | F23: UNICEF | G23: =IF(F23="UNICEF",1,0) -> 1 | H23: Quant | I23: =IF(H23 = "Quant", 1, 0) -> 1 | J23: Yes | K23: =IF(J23="Yes",1,0) -> 1 | L23: No | M23: =IF(L23="Yes",1,0) -> 0 | N23: No | O23: =IF(N23="Yes",1,0) -> 0 | P23: Yes | Q23: Contingency Plan target is set to cover 3000 children
A24: 2017 | C24: Gender Equality | D24: The enrolment of girls in compulsory education has steadily improved in recent years: the 2017 Joint Sector Review found a net enrolment rate of 95 per cent, with an overall gender parity index of 0.915 for all levels of education | E24: COAR 2017 | F24: UNICEF | G24: =IF(F24="UNICEF",1,0) -> 1 | H24: Qual | I24: =IF(H24 = "Quant", 1, 0) -> 0 | J24: Yes | K24: =IF(J24="Yes",1,0) -> 1 | L24: Yes | M24: =IF(L24="Yes",1,0) -> 1 | N24: No | O24: =IF(N24="Yes",1,0) -> 0 | P24: No RAM for 2017
A25: 2017 | C25: Gender Equality | D25: More gender-equitable access has been achieved for preschool education, with the gender parity index rising from 0.803 in 2016 to 0.819 in 2017 | E25: COAR 2017 | F25: UNICEF | G25: =IF(F25="UNICEF",1,0) -> 1 | H25: Qual | I25: =IF(H25 = "Quant", 1, 0) -> 0 | J25: Yes | K25: =IF(J25="Yes",1,0) -> 1 | L25: Yes | M25: =IF(L25="Yes",1,0) -> 1 | N25: No | O25: =IF(N25="Yes",1,0) -> 0 | P25: No RAM for 2017
A26: 2018 | C26: Inclusive education | D26: 184 children (84 girls) with disabilities (2.8 % out of 6,584 CwD including 2.611 girls) benefited from a school-based inclusive-education model in order to attend mainstream school with their peers. | E26: COAR 2018 | F26: UNICEF | G26: =IF(F26="UNICEF",1,0) -> 1 | H26: Quant | I26: =IF(H26 = "Quant", 1, 0) -> 1 | J26: Yes | K26: =IF(J26="Yes",1,0) -> 1 | L26: No | M26: =IF(L26="Yes",1,0) -> 0 | N26: No | O26: =IF(N26="Yes",1,0) -> 0 | Q26: The programme was developed in partnership wth the MoES and the In-service Teacher Training Institute and with implementation, the proportion of CwD enrolled in inclusive education is expected to increase by 40 percent by 2020.
A27: 2019 | C27: Inclusive Education | D27: 887,000 inclusive education books distributed throughout the country reaching over 70 per cent of schools | E27: COAR 2019 | F27: UNICEF | G27: =IF(F27="UNICEF",1,0) -> 1 | H27: Qual | I27: =IF(H27 = "Quant", 1, 0) -> 0 | J27: Does not apply | K27: =IF(J27="Yes",1,0) -> 0 | L27: Does not apply | M27: =IF(L27="Yes",1,0) -> 0 | N27: Yes | O27: =IF(N27="Yes",1,0) -> 1
A28: 2019 | C28: Inclusive Education | D28: Latest EMIS report for 2018-2019 school year shows 7,278 children with disabilities (less than 27% of identified children) had access to education, which showed an increase of 694 children (268 girls) compared to the previous year. | E28: COAR 2019 | F28: UNICEF | G28: =IF(F28="UNICEF",1,0) -> 1 | H28: Quant | I28: =IF(H28 = "Quant", 1, 0) -> 1 | J28: Yes | K28: =IF(J28="Yes",1,0) -> 1 | L28: No | M28: =IF(L28="Yes",1,0) -> 0 | N28: No | O28: =IF(N28="Yes",1,0) -> 0
A29: 2019 | C29: Inclusive Education | D29: 11% of schools have comprehensive interventions in place to provide quality inclusive education to the most marginalised, with specific focus on girls and boys with disabilities | E29: RAM 2019 | F29: UNICEF | G29: =IF(F29="UNICEF",1,0) -> 1 | H29: Qual | I29: =IF(H29 = "Quant", 1, 0) -> 0 | J29: Does not apply | K29: =IF(J29="Yes",1,0) -> 0 | L29: Does not apply | M29: =IF(L29="Yes",1,0) -> 0 | N29: No | O29: =IF(N29="Yes",1,0) -> 0
A30: 2016 | C30: Inclusive education training | D30: 140 faculty of the Tajik State Pedagogical University and the Rasht Pedagogical Institute can apply active learning and innovative teaching techniques with future schoolteachers. Cohorts of teachers were also trained on inclusive education and student-centred approaches. A network of 60 teachers skilled on inclusive education was established in GBAO. | E30: COAR 2016 | F30: UNICEF | G30: =IF(F30="UNICEF",1,0) -> 1 | H30: Qual | I30: =IF(H30 = "Quant", 1, 0) -> 0 | J30: No | K30: =IF(J30="Yes",1,0) -> 0 | L30: No | M30: =IF(L30="Yes",1,0) -> 0 | N30: Yes | O30: =IF(N30="Yes",1,0) -> 1 | P30: No RAM for 2016
A31: 2019 | C31: Learning outcomes | D31: Number of girls and boys provided with individual education/early learning material through UNICEF-supported programmes | E31: SMQ 2019 Learn | F31: UNICEF | G31: =IF(F31="UNICEF",1,0) -> 1 | H31: Quant | I31: =IF(H31 = "Quant", 1, 0) -> 1 | J31: No | K31: =IF(J31="Yes",1,0) -> 0 | L31: No | M31: =IF(L31="Yes",1,0) -> 0 | N31: No | O31: =IF(N31="Yes",1,0) -> 0 | P31: Yes | Q31: In 2019 more than 3900 children received learning materials on disaster risk reduction and disaster and climate resilience programme
A32: 2019 | C32: Learning outcomes | D32: Effective education systems for learning outcomes, including early learning | E32: SMQ 2019 Learn | F32: UNICEF | G32: =IF(F32="UNICEF",1,0) -> 1 | H32: Qual | I32: =IF(H32 = "Quant", 1, 0) -> 0 | J32: does not apply to indicator | K32: =IF(J32="Yes",1,0) -> 0 | L32: does not apply to indicator | M32: =IF(L32="Yes",1,0) -> 0 | N32: does not apply to indicator | O32: =IF(N32="Yes",1,0) -> 0
A33: 2019 | C33: Learning outcomes | D33: Gender-responsive teaching and learning systems | E33: SMQ 2019 Learn | F33: UNICEF | G33: =IF(F33="UNICEF",1,0) -> 1 | H33: Qual | I33: =IF(H33 = "Quant", 1, 0) -> 0 | J33: does not apply to indicator | K33: =IF(J33="Yes",1,0) -> 0 | L33: does not apply to indicator | M33: =IF(L33="Yes",1,0) -> 0 | N33: does not apply to indicator | O33: =IF(N33="Yes",1,0) -> 0
A34: 2019 | C34: Learning outcomes | D34: Number of students: 2.25 million | E34: Tajikistan SitAn 2019 page 23 | F34: UNICEF | G34: =IF(F34="UNICEF",1,0) -> 1 | H34: quant | I34: =IF(H34 = "Quant", 1, 0) -> 1 | J34: No | K34: =IF(J34="Yes",1,0) -> 0 | L34: No | M34: =IF(L34="Yes",1,0) -> 0 | N34: No | O34: =IF(N34="Yes",1,0) -> 0
A35: 2019 | C35: Learning outcomes | D35: Number of educational institutions : 4,000 | E35: Tajikistan SitAn 2019 page 23 | F35: UNICEF | G35: =IF(F35="UNICEF",1,0) -> 1 | H35: qual | I35: =IF(H35 = "Quant", 1, 0) -> 0 | J35: Does not apply | K35: =IF(J35="Yes",1,0) -> 0 | L35: Does not apply | M35: =IF(L35="Yes",1,0) -> 0 | N35: Does not apply | O35: =IF(N35="Yes",1,0) -> 0
A36: 2017 | C36: Learning outcomes | D36: Government spending on education (including externally financed programs and special funds of budgetary organizations in education) reached $394.8 million in 2016, an equivalent of 17% of the overall state budget and 5.7% of GDP | E36: Joint Sector Review Education Sector Synthesis Report 2017 | F36: Joint Sector Review Education Sector Synthesis Report 2017 | G36: =IF(F36="UNICEF",1,0) -> 0 | H36: qual | I36: =IF(H36 = "Quant", 1, 0) -> 0 | J36: Does not apply | K36: =IF(J36="Yes",1,0) -> 0 | L36: Does not apply | M36: =IF(L36="Yes",1,0) -> 0 | N36: Does not apply | O36: =IF(N36="Yes",1,0) -> 0
A37: 2017 | C37: Learning outcomes | D37: Number of general secondary edcational institutions : 3,865 | E37: Joint Sector Review Education Sector Synthesis Report 2017 | F37: Joint Sector Review Education Sector Synthesis Report 2017 | G37: =IF(F37="UNICEF",1,0) -> 0 | H37: qual | I37: =IF(H37 = "Quant", 1, 0) -> 0 | J37: Does not apply | K37: =IF(J37="Yes",1,0) -> 0 | L37: Does not apply | M37: =IF(L37="Yes",1,0) -> 0 | N37: No | O37: =IF(N37="Yes",1,0) -> 0
A38: 2017 | C38: Learning outcomes | D38: Number of students enrolled in general secondary education : 1,837,762 (year 2016-17) | E38: Joint Sector Review Education Sector Synthesis Report 2017 | F38: Joint Sector Review Education Sector Synthesis Report 2017 | G38: =IF(F38="UNICEF",1,0) -> 0 | H38: Quant | I38: =IF(H38 = "Quant", 1, 0) -> 1 | J38: No | K38: =IF(J38="Yes",1,0) -> 0 | L38: No | M38: =IF(L38="Yes",1,0) -> 0 | N38: No | O38: =IF(N38="Yes",1,0) -> 0
A39: 2018 | C39: Learning outcomes | D39: Nearly all students (98%) complete primary education and transition (99%) to secondary education | E39: Vulnerability and Resilience Atlas 2018 | F39: Vulnerability and Resilience Atlas 2018 | G39: =IF(F39="UNICEF",1,0) -> 0 | H39: quant | I39: =IF(H39 = "Quant", 1, 0) -> 1 | J39: No | K39: =IF(J39="Yes",1,0) -> 0 | L39: No | M39: =IF(L39="Yes",1,0) -> 0 | N39: No | O39: =IF(N39="Yes",1,0) -> 0
A40: 2016 | C40: learning outcomes | D40: UNDAF Outcome 3.1: Net enrolment ratio (NER) in pre-priMary, children between the ages of 36-59 months (SDG 4.2) Baseline (2016) : Girls (10%), Boys (12%) Target (2020): Girls (25%), Boys (25%) | E40: EMIS, MOES | F40: EMIS, MOES | G40: =IF(F40="UNICEF",1,0) -> 0 | H40: Quant | I40: =IF(H40 = "Quant", 1, 0) -> 1 | J40: Yes | K40: =IF(J40="Yes",1,0) -> 1 | L40: Yes | M40: =IF(L40="Yes",1,0) -> 1 | N40: No | O40: =IF(N40="Yes",1,0) -> 0 | Q40: UNDAF Framework Outcome 3. People in Tajikistan benefit from quality, equitable and inclusive health, education and social protection systems
...

Sheet  SURVIVE & THRIVE
A1: Year | B1: Area | C1: Goal/Outcome | D1: Indicator | E1: Data source | F1: UNICEF or other | G1: INDIC_UNICEForNot | H1: Qualitative or Quantitative | I1: Yes if Quant | J1: Dis Sex | K1: INDIC_Dis Sex | L1: Dis Age | M1: INDIC_Dis Age | N1: Dis Urb/Rural | O1: INDIC_Dis Urb/Rural | P1: Cross-referenced w/ RAM | Q1: Comment
A2: 2016 | B2: Survive and Thrive | C2: Immunization | D2: UNICEF Tajikistan contributed to more than 90% immunization coverage for all antigens | E2: COAR 2016 | F2: UNICEF | G2: =IF(F2="UNICEF",1,0) -> 1 | H2: Quant | I2: =IF(H2="Quant",1,0) -> 1 | J2: No | K2: =IF(J2="Yes",1,0) -> 0 | L2: No | M2: =IF(L2="Yes",1,0) -> 0 | N2: No | O2: =IF(N2="Yes",1,0) -> 0 | P2: Not applicable No RAM for 2016 | Q2: With support from Japan, the Russian Federation and the United States Agency for International Development (USAID) and working closely with the Ministry of Health.
A3: 2016 | C3: Nutrition | D3: 210,720 children in 33 districts received sprinkles for 60 days every 60 months | E3: COAR 2016 | F3: UNICEF | G3: =IF(F3="UNICEF",1,0) -> 1 | H3: Quant | I3: =IF(H3="Quant",1,0) -> 1 | J3: No | K3: =IF(J3="Yes",1,0) -> 0 | L3: No | M3: =IF(L3="Yes",1,0) -> 0 | N3: Yes | O3: =IF(N3="Yes",1,0) -> 1 | P3: Not applicable No RAM for 2016
A4: 2016 | C4: Nutrition | D4: 95, 749 pregnant women in 35 districts received iron and folic acid tablets | E4: COAR 2016 | F4: UNICEF | G4: =IF(F4="UNICEF",1,0) -> 1 | H4: Quant | I4: =IF(H4="Quant",1,0) -> 1 | J4: Yes | K4: =IF(J4="Yes",1,0) -> 1 | L4: No | M4: =IF(L4="Yes",1,0) -> 0 | N4: Yes | O4: =IF(N4="Yes",1,0) -> 1 | P4: Not applicable No RAM for 2016
A5: 2016 | C5: Maternal and Newborn Health | D5: A communication campaign reached 125,000 mothers and 3,500 health workers through 10,000 copies of 'Breastfeeding is a Key for Sustainable Development' | E5: COAR 2016 | F5: UNICEF | G5: =IF(F5="UNICEF",1,0) -> 1 | H5: Quant | I5: =IF(H5="Quant",1,0) -> 1 | J5: Does not apply | K5: =IF(J5="Yes",1,0) -> 0 | L5: No | M5: =IF(L5="Yes",1,0) -> 0 | N5: No | O5: =IF(N5="Yes",1,0) -> 0 | P5: Not applicable No RAM for 2016 | Q5: Campaign run by the MoHSP and UNICEF
A6: 2016 | C6: Nutrition | D6: Increase in iodized salt usage in households: example : More households were using salt in Rasht Valley in 2016 compared to 2015 (from 17% to 59 %) | E6: COAR 2016 | F6: UNICEF | G6: =IF(F6="UNICEF",1,0) -> 1 | H6: Quant | I6: =IF(H6="Quant",1,0) -> 1 | J6: No | K6: =IF(J6="Yes",1,0) -> 0 | L6: No | M6: =IF(L6="Yes",1,0) -> 0 | N6: Yes | O6: =IF(N6="Yes",1,0) -> 1 | P6: Not applicable No RAM for 2016
A7: 2016 | C7: Maternal and Newborn Health | D7: 150 MoHSP heath professionals received training on essential baby care in 2016 | E7: COAR 2016 | F7: UNICEF | G7: =IF(F7="UNICEF",1,0) -> 1 | H7: Quant | I7: =IF(H7="Quant",1,0) -> 1 | J7: Does not apply | K7: =IF(J7="Yes",1,0) -> 0 | L7: No | M7: =IF(L7="Yes",1,0) -> 0 | N7: No | O7: =IF(N7="Yes",1,0) -> 0 | P7: Not applicable No RAM for 2016 | Q7: Training provided by UNICEF, the German Development Agency, the NGO LDS Charities and USAID
A8: 2017 | C8: Immunization | D8: 1.9 million children aged 1-9 yearswere vaccinated through the measles and rubella initiatives | E8: COAR 2017 | F8: UNICEF | G8: =IF(F8="UNICEF",1,0) -> 1 | H8: Quant | I8: =IF(H8="Quant",1,0) -> 1 | J8: No | K8: =IF(J8="Yes",1,0) -> 0 | L8: Yes | M8: =IF(L8="Yes",1,0) -> 1 | N8: No | O8: =IF(N8="Yes",1,0) -> 0 | P8: Not applicable No RAM for 2017 | Q8: Collaboration of UNICEF and WHO
A9: 2017 | C9: Immunization | D9: 28 national and oblast immunization and health managers were provided training and supplies to be better prepared for any importation of wild poliovirus | E9: COAR 2017 | F9: UNICEF | G9: =IF(F9="UNICEF",1,0) -> 1 | H9: Qual | I9: =IF(H9="Quant",1,0) -> 0 | J9: No | K9: =IF(J9="Yes",1,0) -> 0 | L9: No | M9: =IF(L9="Yes",1,0) -> 0 | N9: Yes | O9: =IF(N9="Yes",1,0) -> 1 | P9: Not applicable No RAM for 2017
A10: 2017 | C10: Nutrition | D10: The Maternal and Child Health Handbook reached 45,000 women who are pregnant and living in the most deprived districts. | E10: COAR 2017 | F10: UNICEF | G10: =IF(F10="UNICEF",1,0) -> 1 | H10: Quant | I10: =IF(H10="Quant",1,0) -> 1 | J10: Yes | K10: =IF(J10="Yes",1,0) -> 1 | L10: No | M10: =IF(L10="Yes",1,0) -> 0 | N10: Yes | O10: =IF(N10="Yes",1,0) -> 1 | P10: Not applicable No RAM for 2017
A11: 2018 | C11: Child health | D11: Number of PHC workers with improved Inter-Personal Communication skills on proper Child Health and Nutrition Care: 523 in 2017 | E11: RAM 2018 | F11: Other | G11: =IF(F11="UNICEF",1,0) -> 0 | H11: Quant | I11: =IF(H11="Quant",1,0) -> 1 | J11: No | K11: =IF(J11="Yes",1,0) -> 0 | L11: No | M11: =IF(L11="Yes",1,0) -> 0 | N11: No | O11: =IF(N11="Yes",1,0) -> 0
A12: 2018 | C12: Maternal and Newborn Health | D12: Neonatal mortality was reduced from 22 per 1,000 live birhts in 2013 to an estimated 20 per 1,000 in 2017 (target is 16 by 2020) | F12: UNICEF | G12: =IF(F12="UNICEF",1,0) -> 1 | H12: Quant | I12: =IF(H12="Quant",1,0) -> 1 | J12: Does not apply | K12: =IF(J12="Yes",1,0) -> 0 | L12: Does not appply | M12: =IF(L12="Yes",1,0) -> 0 | N12: No | O12: =IF(N12="Yes",1,0) -> 0 | P12: Yes
A13: 2018 | C13: Child health | D13: Child mortality decreased from 48 per 1,000 in 2013 to 43 in 2017 (target is 25 by 2020) | E13: COAR 2018 | F13: UNICEF | G13: =IF(F13="UNICEF",1,0) -> 1 | H13: Quant | I13: =IF(H13="Quant",1,0) -> 1 | J13: No | K13: =IF(J13="Yes",1,0) -> 0 | L13: No | M13: =IF(L13="Yes",1,0) -> 0 | N13: No | O13: =IF(N13="Yes",1,0) -> 0 | P13: Yes
C14: Nutrition | D14: Prevalence of wasting in children under five decreased from 10 to 3 in 2017 (target was 7 in 2018) | E14: RAM 2018 | F14: MICS/DHS or other national survey | G14: =IF(F14="UNICEF",1,0) -> 0 | H14: Quant | I14: =IF(H14="Quant",1,0) -> 1 | J14: No | K14: =IF(J14="Yes",1,0) -> 0 | L14: No | M14: =IF(L14="Yes",1,0) -> 0 | N14: No | O14: =IF(N14="Yes",1,0) -> 0 | P14: Yes | Q14: According to RAM target is fully acheived
A15: 2018 | C15: Nutrition | D15: Prevalence of stunting in children under five decreased from 26 (per 1,000?) in 2012 to 21 (per 1,000?) in 2017 (target is 20 by 2018) | E15: COAR 2018 citing DHS 2017 | F15: MICS/DHS or other national survey | G15: =IF(F15="UNICEF",1,0) -> 0 | H15: Quant | I15: =IF(H15="Quant",1,0) -> 1 | J15: No | K15: =IF(J15="Yes",1,0) -> 0 | L15: Yes | M15: =IF(L15="Yes",1,0) -> 1 | N15: No | O15: =IF(N15="Yes",1,0) -> 0 | P15: Yes | Q15: Content from RAM : Malnutrition is still widespread with a quarter of children stunted and 10 per cent wasted (according to DHS 2012). Four per cent suffer from Severe Acute Malnutrition (SAM) though, according to MoHSP service statistics, only 204 children were admitted for treatment in the first nine months of 2016.
A16: 2018 | C16: Nutrition | D16: Number of underweight children under five fell from 12 (per 1,000?) in 2012 to 6 (per 1,000?) 2017 (target is 7 by 2018) | E16: COAR 2018 citing DHS 2017 | F16: MICS/DHS or other national survey | G16: =IF(F16="UNICEF",1,0) -> 0 | H16: Quant | I16: =IF(H16="Quant",1,0) -> 1 | J16: No | K16: =IF(J16="Yes",1,0) -> 0 | L16: Yes | M16: =IF(L16="Yes",1,0) -> 1 | N16: No | O16: =IF(N16="Yes",1,0) -> 0 | P16: Yes | Q16: According to RAM target is fully acheived
A17: 2018 | C17: Maternal and Newborn Health | D17: About 45,000 women and 45,000 newborns benefitted from continuous quality improvementand independent data verification interventions in 2018 | E17: COAR 2018 | F17: UNICEF | G17: =IF(F17="UNICEF",1,0) -> 1 | H17: Quant | I17: =IF(H17="Quant",1,0) -> 1 | J17: Does not apply | K17: =IF(J17="Yes",1,0) -> 0 | L17: No | M17: =IF(L17="Yes",1,0) -> 0 | N17: No | O17: =IF(N17="Yes",1,0) -> 0
A18: 2018 | C18: Maternal and Newborn Health | D18: 61 % of last births were followed with a postnatal check-up by skilled health providers within one week after delivery | E18: RAM 2018 | F18: MICS/DHS or other national survey | G18: =IF(F18="UNICEF",1,0) -> 0 | H18: Quant | I18: =IF(H18="Quant",1,0) -> 1 | J18: Does not apply | K18: =IF(J18="Yes",1,0) -> 0 | L18: No | M18: =IF(L18="Yes",1,0) -> 0 | N18: No | O18: =IF(N18="Yes",1,0) -> 0 | P18: Yes | Q18: Target is 80% by 2018
A19: 2018 | C19: Nutrition | D19: Level of anemia among children aged 6-59 months decreased from 29% in 2009 to 26% in 2017 | E19: RAM 2018 | F19: MICS/DHS or other national survey | G19: =IF(F19="UNICEF",1,0) -> 0 | H19: Quant | I19: =IF(H19="Quant",1,0) -> 1 | J19: No | K19: =IF(J19="Yes",1,0) -> 0 | L19: No | M19: =IF(L19="Yes",1,0) -> 0 | N19: No | O19: =IF(N19="Yes",1,0) -> 0 | P19: Yes | Q19: Target is 25% by 2018
A20: 2018 | C20: Nutrition | D20: Prevalence of anemia among women of reproductive age: 26% in 2017 | E20: RAM 2018 | F20: MICS/DHS or other national survey | G20: =IF(F20="UNICEF",1,0) -> 0 | H20: Quant | I20: =IF(H20="Quant",1,0) -> 1 | J20: Yes | K20: =IF(J20="Yes",1,0) -> 1 | L20: No | M20: =IF(L20="Yes",1,0) -> 0 | N20: No | O20: =IF(N20="Yes",1,0) -> 0 | P20: Yes | Q20: Target is 16% by 2018
A21: 2018 | C21: Maternal and Newborn Health | D21: UNICEF supported a full-scale dissemination of the mother and child health handbook in 16 districts, reaching over 45,000 women who were pregnant. | E21: COAR 2018 | F21: UNICEF | G21: =IF(F21="UNICEF",1,0) -> 1 | H21: Quant | I21: =IF(H21="Quant",1,0) -> 1 | J21: Does not apply | K21: =IF(J21="Yes",1,0) -> 0 | L21: No | M21: =IF(L21="Yes",1,0) -> 0 | N21: Yes | O21: =IF(N21="Yes",1,0) -> 1 | P21: Yes
A22: 2018 | C22: Maternal and Newborn Health | D22: 56% of districts adopted the MCH handbook | E22: RAM 2018 | F22: Other | G22: =IF(F22="UNICEF",1,0) -> 0 | H22: Quant | I22: =IF(H22="Quant",1,0) -> 1 | J22: Does not apply | K22: =IF(J22="Yes",1,0) -> 0 | L22: Does not apply | M22: =IF(L22="Yes",1,0) -> 0 | N22: No | O22: =IF(N22="Yes",1,0) -> 0 | P22: Yes
A23: 2018 | C23: Maternal and Newborn Health | D23: Number of district Maternity and Newborn Units which passed accreditation standard and maintained the status: 11 | E23: RAM 2018 | F23: Evaluation | G23: =IF(F23="UNICEF",1,0) -> 0 | H23: Quant | I23: =IF(H23="Quant",1,0) -> 1 | J23: Does not apply | K23: =IF(J23="Yes",1,0) -> 0 | L23: Does not apply | M23: =IF(L23="Yes",1,0) -> 0 | N23: No | O23: =IF(N23="Yes",1,0) -> 0 | P23: Yes | Q23: Target is 20 by 2020
A24: 2018 | C24: Maternal and Newborn Health | D24: 10% of maternities and children's hospitals have functional internal infection control mechanisms in place | E24: RAM 2018 | F24: Evaluation | G24: =IF(F24="UNICEF",1,0) -> 0 | H24: Quant | I24: =IF(H24="Quant",1,0) -> 1 | J24: Does not apply | K24: =IF(J24="Yes",1,0) -> 0 | L24: Does not apply | M24: =IF(L24="Yes",1,0) -> 0 | N24: No | O24: =IF(N24="Yes",1,0) -> 0 | P24: Yes | Q24: target is 60% by 2020
A25: 2018 | C25: Maternal and Newborn Health | D25: 10% of districts are regularly implementing BABIES matrix | E25: RAM 2018 | F25: Evaluation | G25: =IF(F25="UNICEF",1,0) -> 0 | H25: Quant | I25: =IF(H25="Quant",1,0) -> 1 | J25: Does not apply | K25: =IF(J25="Yes",1,0) -> 0 | L25: Does not apply | M25: =IF(L25="Yes",1,0) -> 0 | N25: No | O25: =IF(N25="Yes",1,0) -> 0 | P25: Yes
A26: 2018 | C26: Immunization | D26: Share of budget requirement for vaccines and related devices covered by the government : 22% in 2017 | E26: RAM 2018 | F26: Other | G26: =IF(F26="UNICEF",1,0) -> 0 | H26: Quant | I26: =IF(H26="Quant",1,0) -> 1 | J26: Does not apply | K26: =IF(J26="Yes",1,0) -> 0 | L26: Does not apply | M26: =IF(L26="Yes",1,0) -> 0 | N26: Does not apply | O26: =IF(N26="Yes",1,0) -> 0 | P26: Yes | Q26: Target is 50% by 2019
A27: 2018 | C27: Immunization | D27: Between January and August, over 290,000 children benefitted from vaccines; 37,855 children with diarrhoea benefitted from oral rehydration salt and ainc; and 126,128 children diagnosed with acute respiratory infections (including pneumonia cases) were treated with integrated management of childhood illnesses drugs. | E27: COAR 2018 | F27: UNICEF | G27: =IF(F27="UNICEF",1,0) -> 1 | H27: Quant | I27: =IF(H27="Quant",1,0) -> 1 | J27: No | K27: =IF(J27="Yes",1,0) -> 0 | L27: No | M27: =IF(L27="Yes",1,0) -> 0 | N27: No | O27: =IF(N27="Yes",1,0) -> 0
A28: 2018 | C28: Immunization | D28: Capacity building of 126 health managers, 174 family doctors and 2,948 vaccinators benefitted 63,000 children across the country. | E28: COAR 2018 | F28: UNICEF | G28: =IF(F28="UNICEF",1,0) -> 1 | H28: Quant | I28: =IF(H28="Quant",1,0) -> 1 | J28: No | K28: =IF(J28="Yes",1,0) -> 0 | L28: No | M28: =IF(L28="Yes",1,0) -> 0 | N28: No | O28: =IF(N28="Yes",1,0) -> 0
A29: 2018 | C29: Immunization | D29: UNICEF support ensured the smooth introduction of IPV and a resultant increase in IPV coverage from 66 percent to 85 percent, between JuneSeptember 2018 | E29: COAR 2018 | F29: UNICEF | G29: =IF(F29="UNICEF",1,0) -> 1 | H29: Quant | I29: =IF(H29="Quant",1,0) -> 1 | J29: No | K29: =IF(J29="Yes",1,0) -> 0 | L29: No | M29: =IF(L29="Yes",1,0) -> 0 | N29: No | O29: =IF(N29="Yes",1,0) -> 0
A30: 2018 | C30: Nutrition | D30: UNICEF trained more than 450 health staff across the country on the integrated management of acute malnutrition guidelines. The improved capacity of health workers and active case-finding resulted in a 51 per cent increase in the admission of severe and acute malnourished children to treatment between the second and third quarter of 2018. | E30: COAR 2018 | F30: UNICEF | G30: =IF(F30="UNICEF",1,0) -> 1 | H30: Quant | I30: =IF(H30="Quant",1,0) -> 1 | J30: No | K30: =IF(J30="Yes",1,0) -> 0 | L30: No | M30: =IF(L30="Yes",1,0) -> 0 | N30: No | O30: =IF(N30="Yes",1,0) -> 0
A31: 2018 | C31: Nutrition | D31: 2,772 children benefitted from UNICEF-supported severe acute malnutrition treatment in 2018. | E31: COAR 2018 | F31: UNICEF | G31: =IF(F31="UNICEF",1,0) -> 1 | H31: Quant | I31: =IF(H31="Quant",1,0) -> 1 | J31: No | K31: =IF(J31="Yes",1,0) -> 0 | L31: No | M31: =IF(L31="Yes",1,0) -> 0 | N31: No | O31: =IF(N31="Yes",1,0) -> 0
A32: 2018 | C32: Nutrition | D32: More than 79,000 children in 12 districts benefited from micronutrient powder for sixty days every six months in 2018. Over 83,000 women who were pregnant in 35 districts received iron and folic acid tablets as part of their antenatal care at primary health care level while 2,593 severe acute malnourished inpatient children were treated with therapeutic food to recovery. | E32: COAR 2018 | F32: UNICEF | G32: =IF(F32="UNICEF",1,0) -> 1 | H32: Quant | I32: =IF(H32="Quant",1,0) -> 1 | J32: No | K32: =IF(J32="Yes",1,0) -> 0 | L32: No | M32: =IF(L32="Yes",1,0) -> 0 | N32: No | O32: =IF(N32="Yes",1,0) -> 0
C33: Treatment and care of children living with HIV | D33: 44.4% of HIV positive pregnant women received antiretrovirals to reduce the risk of mother-to-child transmission of HIV during the last 12 months | E33: RAM 2018 | F33: Other | G33: =IF(F33="UNICEF",1,0) -> 0 | H33: Quant | I33: =IF(H33="Quant",1,0) -> 1 | J33: Does not apply | K33: =IF(J33="Yes",1,0) -> 0 | L33: No | M33: =IF(L33="Yes",1,0) -> 0 | N33: No | O33: =IF(N33="Yes",1,0) -> 0 | P33: Yes | Q33: Target is 80% by 2019
A34: 2018 | C34: Treatment and care of children living with HIV | D34: The number of children living with HIV to access social services increased from 63 percent in 2015 to 75 percent in 2018. | E34: COAR 2018 | F34: UNICEF | G34: =IF(F34="UNICEF",1,0) -> 1 | H34: Quant | I34: =IF(H34="Quant",1,0) -> 1 | J34: No | K34: =IF(J34="Yes",1,0) -> 0 | L34: No | M34: =IF(L34="Yes",1,0) -> 0 | N34: No | O34: =IF(N34="Yes",1,0) -> 0
A35: 2018 | C35: Child health | D35: 844 children screened for development delay between July and November 2018, 15 children with developmental delays were referred for expert consultation; five of them were enrolled in rehabilitation programme. | E35: COAR 2018 | F35: UNICEF | G35: =IF(F35="UNICEF",1,0) -> 1 | H35: Quant | I35: =IF(H35="Quant",1,0) -> 1 | J35: No | K35: =IF(J35="Yes",1,0) -> 0 | L35: No | M35: =IF(L35="Yes",1,0) -> 0 | N35: No | O35: =IF(N35="Yes",1,0) -> 0
A36: 2019 | C36: Immunization | D36: UNICEF procured and distributed essential life-saving vaccines and IMCI drugs to all primary healthcare facilities resulting in vaccination of over 500,000 children which accounts for consistent 98 per cent coverage country-wide. | E36: COAR 2019 | F36: UNICEF | G36: =IF(F36="UNICEF",1,0) -> 1 | H36: Quant | I36: =IF(H36="Quant",1,0) -> 1 | J36: Does not apply | K36: =IF(J36="Yes",1,0) -> 0 | L36: Does not apply | M36: =IF(L36="Yes",1,0) -> 0 | N36: No | O36: =IF(N36="Yes",1,0) -> 0 | Q36: With financial support from the Government of Japan
C37: Maternal and Newborn Health | D37: The rehabilitation/construction and refurbishment of WASh infrastructure in 18 maternity units of districts hospital started and to be accomplished by end of Dec 2019 or Jan 2020. | E37: RAM 2019 | F37: UNICEF | G37: =IF(F37="UNICEF",1,0) -> 1 | H37: Qual | I37: =IF(H37="Quant",1,0) -> 0 | J37: Does not apply | K37: =IF(J37="Yes",1,0) -> 0 | L37: Does not apply | M37: =IF(L37="Yes",1,0) -> 0 | N37: Yes | O37: =IF(N37="Yes",1,0) -> 1 | P37: Yes
C38: Maternal and Newborn Health | D38: 18% of maternities have improved water, sanitation and hygiene facilities. | E38: RAM 2019 | F38: UNICEF | G38: =IF(F38="UNICEF",1,0) -> 1 | H38: Qual | I38: =IF(H38="Quant",1,0) -> 0 | J38: Does not apply | K38: =IF(J38="Yes",1,0) -> 0 | L38: Does not apply | M38: =IF(L38="Yes",1,0) -> 0 | N38: No | O38: =IF(N38="Yes",1,0) -> 0 | P38: Yes | Q38: Target was 30% in 2019
A39: 2019 | C39: Maternal and Newborn Health | D39: UNICEF procured and installed life-saving equipment in 11 district maternities and two maternity hospitals which benefitted about 25,000 newborns during July-December. | E39: COAR 2019 | F39: UNICEF | G39: =IF(F39="UNICEF",1,0) -> 1 | H39: Quant | I39: =IF(H39="Quant",1,0) -> 1 | J39: Does not apply | K39: =IF(J39="Yes",1,0) -> 0 | L39: Does not apply | M39: =IF(L39="Yes",1,0) -> 0 | N39: Yes | O39: =IF(N39="Yes",1,0) -> 1 | Q39: With Russian Federation funding
A40: 2019 | C40: Maternal and Newborn Health | D40: 45,000 pregnant women mothers/caregivers of children under 2 years old received the improved MCH handbook | E40: RAM 2019 | F40: UNICEF | G40: =IF(F40="UNICEF",1,0) -> 1 | H40: Quant | I40: =IF(H40="Quant",1,0) -> 1 | J40: Does not apply | K40: =IF(J40="Yes",1,0) -> 0 | L40: No | M40: =IF(L40="Yes",1,0) -> 0 | N40: No | O40: =IF(N40="Yes",1,0) -> 0 | P40: Yes | Q40: Target was 50,000 in 2019
...

Sheet PROTECTIVE ENVIRONMENT
A1: Year | B1: Area | C1: Goal/Outcome | D1: Indicator | E1: Data source | F1: UNICEF or other | G1: INDIC_UNICEForNot | H1: Qualitative or Quantitative | I1: Yes if Quant | J1: Dis Sex | K1: INDIC_Dis Sex | L1: Dis Age | M1: INDIC_Dis Age | N1: Dis Urb/Rural | O1: INDIC_Dis Urb/Rural | P1: Cross-referenced w/ RAM | Q1: Comment
A2: 2016 | B2: Child Protection | C2: Alternative Care | D2: The number of children aged 0-4 residing in baby homes icreased by 25% from 245 in 2014 to 309 in 2015 | E2: COAR 2016 | F2: UNICEF | G2: =IF(F2="UNICEF",1,0) -> 1 | H2: Quant | I2: =IF(H2="Quant",1,0) -> 1 | J2: No | K2: =IF(J2="Yes",1,0) -> 0 | L2: Yes | M2: =IF(L2="Yes",1,0) -> 1 | N2: No | O2: =IF(N2="Yes",1,0) -> 0 | P2: No RAM for 2016
A3: 2016 | C3: Child Labour | D3: Children are expected to contribute to earning income to help families: 23.3% of children or 522,000 children aged 5-17 were working in 2013. The survey found that 68.7% of girls aged 5–17 were involved in unpaid household services (household chores) compared with 55.8 % for boys of the same age. | E3: COAR 2016 citing the 2012-2013 Child Labour Survey | F3: UNICEF | G3: =IF(F3="UNICEF",1,0) -> 1 | H3: Quant | I3: =IF(H3="Quant",1,0) -> 1 | J3: No | K3: =IF(J3="Yes",1,0) -> 0 | L3: Yes | M3: =IF(L3="Yes",1,0) -> 1 | N3: No | O3: =IF(N3="Yes",1,0) -> 0 | P3: No RAM for 2016
A4: 2016 | C4: Social Protection | D4: In 2016, 25,178 childern received a disability pension | E4: COAR 2016 | F4: UNICEF | G4: =IF(F4="UNICEF",1,0) -> 1 | H4: Quant | I4: =IF(H4="Quant",1,0) -> 1 | J4: No | K4: =IF(J4="Yes",1,0) -> 0 | L4: No | M4: =IF(L4="Yes",1,0) -> 0 | N4: No | O4: =IF(N4="Yes",1,0) -> 0 | P4: No RAM for 2016 | Q4: This figure only covers children with disabilities who are registered and are therefore eligible for state support
A5: 2017 | C5: Juvenile Justice | D5: 10 new judge master trainers and 10 new police master trainers (3 women and 17 men) were trained on child-friendly law enforcement and justice | E5: COAR 2017 | F5: UNICEF | G5: =IF(F5="UNICEF",1,0) -> 1 | H5: Quant | I5: =IF(H5="Quant",1,0) -> 1 | J5: Yes | K5: =IF(J5="Yes",1,0) -> 1 | L5: Does not apply | M5: =IF(L5="Yes",1,0) -> 0 | N5: No | O5: =IF(N5="Yes",1,0) -> 0 | P5: No RAM for 2017 | Q5: Many of these children live in border areas adjacent to Kyrgystan and are of diverse ethnic backgrounds.
A6: 2017 | C6: Juvenile Justice | D6: 20 new prosecutors (3 women and 17 men) enhanced their capacities on justice for children and are now better equipped to deliver child-friendly justice. | E6: COAR 2017 | F6: UNICEF | G6: =IF(F6="UNICEF",1,0) -> 1 | H6: Quant | I6: =IF(H6="Quant",1,0) -> 1 | J6: Yes | K6: =IF(J6="Yes",1,0) -> 1 | L6: Does not apply | M6: =IF(L6="Yes",1,0) -> 0 | N6: No | O6: =IF(N6="Yes",1,0) -> 0 | P6: No RAM for 2017
A7: 2017 | C7: Juvenile Justice | D7: Under a partnership between UNICEF and the Union of Lawyers of Tajikistan, 18 practicing lawyers (4 women and 14 men) were capacitated in the area of child rights protection | E7: COAR 2017 | F7: UNICEF | G7: =IF(F7="UNICEF",1,0) -> 1 | H7: Quant | I7: =IF(H7="Quant",1,0) -> 1 | J7: Yes | K7: =IF(J7="Yes",1,0) -> 1 | L7: Does not apply | M7: =IF(L7="Yes",1,0) -> 0 | N7: No | O7: =IF(N7="Yes",1,0) -> 0 | P7: No RAM for 2017
A8: 2017 | C8: Juvenile Justice | D8: UNICEF supported the Ministry of Justice to deliver a three-day, tailor-made orientation on child rights and child protection to 11 mid-level officials (four women and seven men) from various ministries. | E8: COAR 2017 | F8: UNICEF | G8: =IF(F8="UNICEF",1,0) -> 1 | H8: Qual | I8: =IF(H8="Quant",1,0) -> 0 | J8: Yes | K8: =IF(J8="Yes",1,0) -> 1 | L8: Does not apply | M8: =IF(L8="Yes",1,0) -> 0 | N8: No | O8: =IF(N8="Yes",1,0) -> 0 | P8: No RAM for 2017
A9: 2017 | C9: Juvenile Justice | D9: A total of 143 children (29 girls and 114 boys) who had committed minor offences were diverted from the criminal justice system to six district centres for additional education and one rehabilitation centre in Sughd region between January and November. | E9: COAR 2017 | F9: UNICEF | G9: =IF(F9="UNICEF",1,0) -> 1 | H9: Quant | I9: =IF(H9="Quant",1,0) -> 1 | J9: Yes | K9: =IF(J9="Yes",1,0) -> 1 | L9: No | M9: =IF(L9="Yes",1,0) -> 0 | N9: No | O9: =IF(N9="Yes",1,0) -> 0 | P9: No RAM for 2017
A10: 2017 | C10: Juvenile Justice | D10: 24 professionals (para-social workers, centre for additional education directors and child rights units officers (15 women and 9 men) increased their knowledge on social work and children in conflict with the law. | E10: COAR 2017 | F10: UNICEF | G10: =IF(F10="UNICEF",1,0) -> 1 | H10: Quant | I10: =IF(H10="Quant",1,0) -> 1 | J10: Yes | K10: =IF(J10="Yes",1,0) -> 1 | L10: Does not apply | M10: =IF(L10="Yes",1,0) -> 0 | N10: No | O10: =IF(N10="Yes",1,0) -> 0 | P10: No RAM for 2017
A11: 2018 | C11: Juvenile justice | D11: 60 newly-appointed judges and 20 prosecutors gained acumen in child justice and child psychology. To ensure training institutions of law enforcement agencies have in-house capacity to carry out training on justice for children, 10 judges, 10 police officers and five prosecutors were trained as master trainers. | E11: COAR 2018 | F11: UNICEF | G11: =IF(F11="UNICEF",1,0) -> 1 | H11: Quant | I11: =IF(H11="Quant",1,0) -> 1 | J11: No | K11: =IF(J11="Yes",1,0) -> 0 | L11: No | M11: =IF(L11="Yes",1,0) -> 0 | N11: No | O11: =IF(N11="Yes",1,0) -> 0 | Q11: UNICEF Tajikistan supported the Supreme Court Training Centre, the General Prosecutor’s Training Institute and the Ministry of Internal Affairs to strengthen capacity and increase the number of professionals equipped with the knowledge and skills to deliver child-friendly justice to children.
A12: 2018 | C12: Juvenile justice | D12: 106 children (18 girls and 88 boys) in conflict with the law or with behavioural difficulties benefitted from rehabilitation services in five districts of Sughd region. | E12: COAR 2018 | F12: UNICEF | G12: =IF(F12="UNICEF",1,0) -> 1 | H12: Quant | I12: =IF(H12="Quant",1,0) -> 1 | J12: Yes | K12: =IF(J12="Yes",1,0) -> 1 | L12: No | M12: =IF(L12="Yes",1,0) -> 0 | N12: Yes | O12: =IF(N12="Yes",1,0) -> 1 | P12: Yes | Q12: UNICEF Tajikistan supported: case workers, who made a total of 289 household visits to monitor the effective rehabilitation of these children; 20 para-social workers in centres for additional education; and two child-rights units officers in learning better case management
C13: Juvenile justice | D13: Number of children in contact with the law provided with protection services including free legal aid: 106 in 2018 | E13: RAM 2018 | F13: UNICEF | G13: =IF(F13="UNICEF",1,0) -> 1 | H13: Quant | I13: =IF(H13="Quant",1,0) -> 1 | J13: No | K13: =IF(J13="Yes",1,0) -> 0 | L13: No | M13: =IF(L13="Yes",1,0) -> 0 | N13: No | O13: =IF(N13="Yes",1,0) -> 0 | P13: Yes | Q13: Target is 200 by 2020
A14: 2018 | C14: Alternative Care | D14: Number of children 0-17 yrs living in residential care: 10,061 in 2016 | E14: RAM 2018 | F14: UNICEF | G14: =IF(F14="UNICEF",1,0) -> 1 | H14: Quant | I14: =IF(H14="Quant",1,0) -> 1 | J14: No | K14: =IF(J14="Yes",1,0) -> 0 | L14: No | M14: =IF(L14="Yes",1,0) -> 0 | N14: No | O14: =IF(N14="Yes",1,0) -> 0 | P14: Yes | Q14: Target is 9,500 in 2019
C15: Alternative Care | D15: Percent distribution of children in formal care by type of care : 84% in residential care, 16% in family-type care (in 2013) | E15: RAM 2018 | F15: UNICEF | G15: =IF(F15="UNICEF",1,0) -> 1 | H15: Quant | I15: =IF(H15="Quant",1,0) -> 1 | J15: No | K15: =IF(J15="Yes",1,0) -> 0 | L15: No | M15: =IF(L15="Yes",1,0) -> 0 | N15: No | O15: =IF(N15="Yes",1,0) -> 0 | P15: Yes | Q15: Target is 77% and 33% by 2020
C16: Alternative Care | D16: Number of Children with Disabilities in residential care : 2,493 in 2013 | E16: RAM 2018 | F16: UNICEF | G16: =IF(F16="UNICEF",1,0) -> 1 | H16: Quant | I16: =IF(H16="Quant",1,0) -> 1 | J16: Yes | K16: =IF(J16="Yes",1,0) -> 1 | L16: No | M16: =IF(L16="Yes",1,0) -> 0 | N16: No | O16: =IF(N16="Yes",1,0) -> 0 | P16: Yes | Q16: target is 1,653 by 2020
C17: Alternative Care | D17: number of children under 4 years old receiving family alternative care: 8 in 2013 | E17: RAM 2018 | F17: UNICEF | G17: =IF(F17="UNICEF",1,0) -> 1 | H17: Quant | I17: =IF(H17="Quant",1,0) -> 1 | J17: Yes | K17: =IF(J17="Yes",1,0) -> 1 | L17: Yes | M17: =IF(L17="Yes",1,0) -> 1 | N17: No | O17: =IF(N17="Yes",1,0) -> 0 | P17: Yes | Q17: Target is 70 by 2020
C18: Alternative Care | D18: Number of children in conflict with the law diverted to alternative community based support during the year: 99 in 2013 | E18: RAM 2018 | F18: UNICEF | G18: =IF(F18="UNICEF",1,0) -> 1 | H18: Quant | I18: =IF(H18="Quant",1,0) -> 1 | J18: No | K18: =IF(J18="Yes",1,0) -> 0 | L18: No | M18: =IF(L18="Yes",1,0) -> 0 | N18: No | O18: =IF(N18="Yes",1,0) -> 0 | P18: Yes | Q18: Target is 200 by 2020
C19: Alternative Care | D19: Percentage of children affected by emergencies who receive social and child protection support : 50% in 2015 | E19: RAM 2018 | F19: UNICEF | G19: =IF(F19="UNICEF",1,0) -> 1 | H19: Quant | I19: =IF(H19="Quant",1,0) -> 1 | J19: Yes | K19: =IF(J19="Yes",1,0) -> 1 | L19: No | M19: =IF(L19="Yes",1,0) -> 0 | N19: No | O19: =IF(N19="Yes",1,0) -> 0 | P19: Yes | Q19: Target is >60% by 2020
A20: 2018 | C20: Alternative Care | D20: With UNICEF Tajikistan technical guidance and funding, the Ombudsman for Child Rights team monitored child rights in 11 residential child care institutions, including boarding schools and institutions for children with disabilities, as well as secondary schools located in various parts of the country servicing 3,188 children. | E20: COAR 2018 | F20: UNICEF | G20: =IF(F20="UNICEF",1,0) -> 1 | H20: Qual | I20: =IF(H20="Quant",1,0) -> 0 | J20: No | K20: =IF(J20="Yes",1,0) -> 0 | L20: No | M20: =IF(L20="Yes",1,0) -> 0 | N20: No | O20: =IF(N20="Yes",1,0) -> 0
C21: Children with Disabilities | D21: Number of Children with disabilities receiving community based care service during the year: 1,999 in 2017 | E21: RAM 2018 | F21: UNICEF | G21: =IF(F21="UNICEF",1,0) -> 1 | H21: Quant | I21: =IF(H21="Quant",1,0) -> 1 | J21: No | K21: =IF(J21="Yes",1,0) -> 0 | L21: No | M21: =IF(L21="Yes",1,0) -> 0 | N21: No | O21: =IF(N21="Yes",1,0) -> 0 | P21: Yes | Q21: Target is 1,000 by 2020
C22: Children with Disabilities | D22: Number of children with disabilities recieving social pensions (UNDAF indicator) : 25,129 in 2017 | E22: RAM 2018 | F22: UNICEF | G22: =IF(F22="UNICEF",1,0) -> 1 | H22: Quant | I22: =IF(H22="Quant",1,0) -> 1 | J22: No | K22: =IF(J22="Yes",1,0) -> 0 | L22: No | M22: =IF(L22="Yes",1,0) -> 0 | N22: No | O22: =IF(N22="Yes",1,0) -> 0 | P22: Yes | Q22: Target is 35,000 by 2020
C23: Children with Disabilities | D23: Percentage of planned state budget expenditure on social protection : 15.7% in 2017 | E23: RAM 2018 | F23: UNICEF | G23: =IF(F23="UNICEF",1,0) -> 1 | H23: Qual | I23: =IF(H23="Quant",1,0) -> 0 | J23: No | K23: =IF(J23="Yes",1,0) -> 0 | L23: No | M23: =IF(L23="Yes",1,0) -> 0 | N23: No | O23: =IF(N23="Yes",1,0) -> 0 | P23: Yes | Q23: Target is 22% by 2020
A24: 2018 | C24: Children with Disabilities | D24: In 10 jamoats of Rasht district, 121 children with disabilities (62 girls/59 boys) received community-based rehabilitation assistance. Of the children, four girls and three boys were enrolled in school with UNICEF support. | E24: COAR 2018 | F24: UNICEF | G24: =IF(F24="UNICEF",1,0) -> 1 | H24: Quant | I24: =IF(H24="Quant",1,0) -> 1 | J24: Yes | K24: =IF(J24="Yes",1,0) -> 1 | L24: No | M24: =IF(L24="Yes",1,0) -> 0 | N24: Yes | O24: =IF(N24="Yes",1,0) -> 1
A25: 2018 | C25: Refugee Children | D25: UNICEF assisted 13 child returnees (nine girls), six from Iraq and seven from Turkey. | E25: COAR 2018 | F25: UNICEF | G25: =IF(F25="UNICEF",1,0) -> 1 | H25: Quant | I25: =IF(H25="Quant",1,0) -> 1 | J25: Yes | K25: =IF(J25="Yes",1,0) -> 1 | L25: No | M25: =IF(L25="Yes",1,0) -> 0 | N25: No | O25: =IF(N25="Yes",1,0) -> 0 | Q25: The parents of the latter children had attempted to cross the Turkey and Syria border and were deported to Tajikistan where some received long-term prison sentences. The children received medical check-ups, home tutoring, enrolment in pre-primary and primary school, one-time cash assistance for each child, advice and assistance in accessing birth certificates.
A26: 2019 | C26: Alternative care | D26: Two of four Baby Homes already converted into FCSCs which provided new type of services for 465 children, where 291 children under four evaded placement in residential care. | E26: COAR 2019 | F26: UNICEF | G26: =IF(F26="UNICEF",1,0) -> 1 | H26: Quant | I26: =IF(H26="Quant",1,0) -> 1 | J26: Does not apply | K26: =IF(J26="Yes",1,0) -> 0 | L26: Does not apply | M26: =IF(L26="Yes",1,0) -> 0 | N26: No | O26: =IF(N26="Yes",1,0) -> 0
C27: Alternative care | D27: 8818 children 0-17 years are living in residential care | E27: RAM 2019 | F27: UNICEF | G27: =IF(F27="UNICEF",1,0) -> 1 | H27: Quant | I27: =IF(H27="Quant",1,0) -> 1 | J27: No | K27: =IF(J27="Yes",1,0) -> 0 | L27: No | M27: =IF(L27="Yes",1,0) -> 0 | N27: No | O27: =IF(N27="Yes",1,0) -> 0 | P27: Yes | Q27: Target is 9.500. Target reached as numbers decreased from 10,061 in 2016 to 8818 in 2019
C28: Alternative care | D28: 3,110 CWD are living in residential care | E28: RAM 2019 | F28: UNICEF | G28: =IF(F28="UNICEF",1,0) -> 1 | H28: Quant | I28: =IF(H28="Quant",1,0) -> 1 | J28: No | K28: =IF(J28="Yes",1,0) -> 0 | L28: No | M28: =IF(L28="Yes",1,0) -> 0 | N28: No | O28: =IF(N28="Yes",1,0) -> 0 | P28: Yes | Q28: Target for 2020 is 1,653
A29: 2019 | C29: Alternative care | D29: In 2019, the number of children in residential childcare decreased by 13 per cent and number of children in family care (including guardianship, foster care and adoption) remained stable | E29: COAR 2019 | F29: UNICEF | G29: =IF(F29="UNICEF",1,0) -> 1 | H29: Quant | I29: =IF(H29="Quant",1,0) -> 1 | J29: No | K29: =IF(J29="Yes",1,0) -> 0 | L29: No | M29: =IF(L29="Yes",1,0) -> 0 | N29: No | O29: =IF(N29="Yes",1,0) -> 0 | P29: Yes
C30: Children with disabilities | D30: 1,999 children with disabilities received community based care services in 2019 | E30: RAM 2019 | F30: UNICEF | G30: =IF(F30="UNICEF",1,0) -> 1 | H30: Quant | I30: =IF(H30="Quant",1,0) -> 1 | J30: No | K30: =IF(J30="Yes",1,0) -> 0 | L30: No | M30: =IF(L30="Yes",1,0) -> 0 | N30: No | O30: =IF(N30="Yes",1,0) -> 0 | P30: Yes
C31: Children with disabilities | D31: 7,000 local officials and community members including youth, adolescents, men and women with/without disabilities were sensitised on social inclusion, with focus on children and women with disabilities | E31: RAM 2019 | F31: UNICEF | G31: =IF(F31="UNICEF",1,0) -> 1 | H31: Quant | I31: =IF(H31="Quant",1,0) -> 1 | J31: No | K31: =IF(J31="Yes",1,0) -> 0 | L31: No | M31: =IF(L31="Yes",1,0) -> 0 | N31: No | O31: =IF(N31="Yes",1,0) -> 0 | P31: Yes
C32: Children with disabilities | D32: Community-based rehabilitation model piloted in Rasht district benefitted over 100 children with disabilities. | E32: RAM 2019 | F32: UNICEF | G32: =IF(F32="UNICEF",1,0) -> 1 | H32: Quant | I32: =IF(H32="Quant",1,0) -> 1 | J32: No | K32: =IF(J32="Yes",1,0) -> 0 | L32: No | M32: =IF(L32="Yes",1,0) -> 0 | N32: yes | O32: =IF(N32="Yes",1,0) -> 1 | P32: Yes
C33: Violence against children | D33: 16.4% of parents consider physical punishment of their children acceptable under given circumstances | E33: RAM 2019 | F33: UNICEF | G33: 1 | H33: Quant | I33: =IF(H33="Quant",1,0) -> 1 | J33: No | K33: =IF(J33="Yes",1,0) -> 0 | L33: No | M33: =IF(L33="Yes",1,0) -> 0 | N33: No | O33: =IF(N33="Yes",1,0) -> 0 | P33: Yes
C34: Child protection | D34: 143 children in conflict with the law were diverted to alternative community based support during the year | E34: RAM 2019 | F34: UNICEF | G34: =IF(F34="UNICEF",1,0) -> 1 | H34: Quant | I34: =IF(H34="Quant",1,0) -> 1 | J34: No | K34: =IF(J34="Yes",1,0) -> 0 | L34: No | M34: =IF(L34="Yes",1,0) -> 0 | N34: No | O34: =IF(N34="Yes",1,0) -> 0 | P34: Yes
A35: 2019 | C35: Child protection | D35: Over 439 vulnerable children (201 girls and 238 boys) were identified through Referral and Response Mechanism (LRRM) piloted in two cities. Around 180 cases of children and families were discussed during monthly LRRM meetings and children were referred to relevant services. | E35: COAR 2019 | F35: UNICEF | G35: =IF(F35="UNICEF",1,0) -> 1 | H35: Quant | I35: =IF(H35="Quant",1,0) -> 1 | J35: Yes | K35: =IF(J35="Yes",1,0) -> 1 | L35: No | M35: =IF(L35="Yes",1,0) -> 0 | N35: Yes | O35: =IF(N35="Yes",1,0) -> 1 | P35: Yes | Q35: Fully-functional LRRM contributed to increased coverage of vulnerable children to address their individual needs - from four per cent in 2018 to 103.5 per cent (528 children) in targeted districts in 2019. The piloting districts were the localities of Kulob and Levakant.
C36: Birth registration | D36: 109 children were referred through the LRRM to the civil registry office to obtain birth certificates | E36: RAM 2019 | F36: UNICEF | G36: =IF(F36="UNICEF",1,0) -> 1 | H36: Quant | I36: =IF(H36="Quant",1,0) -> 1 | J36: No | K36: =IF(J36="Yes",1,0) -> 0 | L36: No | M36: =IF(L36="Yes",1,0) -> 0 | N36: Yes | O36: =IF(N36="Yes",1,0) -> 1 | P36: Yes
C37: Social protection | D37: 34 children received support through the LRRM to get access to social benefits/allowances and alimony. | E37: RAM 2019 | F37: UNICEF | G37: =IF(F37="UNICEF",1,0) -> 1 | H37: Quant | I37: =IF(H37="Quant",1,0) -> 1 | J37: No | K37: =IF(J37="Yes",1,0) -> 0 | L37: No | M37: =IF(L37="Yes",1,0) -> 0 | N37: Yes | O37: =IF(N37="Yes",1,0) -> 1 | P37: Yes
C38: Birth registration | D38: Over 2,400 children obtained birth certificates which is only about 5% of the estimated number of children that may be at risk of statelessness or with undetermined nationality who require further support | E38: RAM 2019 | F38: UNICEF | G38: =IF(F38="UNICEF",1,0) -> 1 | H38: Quant | I38: =IF(H38="Quant",1,0) -> 1 | J38: No | K38: =IF(J38="Yes",1,0) -> 0 | L38: No | M38: =IF(L38="Yes",1,0) -> 0 | N38: No | O38: =IF(N38="Yes",1,0) -> 0 | P38: Yes
C39: Social protection | D39: UNICEF supported MOHSPP to transform Social Assistance at Home Unit (SAHUs) into the Centres for Social Services Provision (CSSP) with a series of capacity building sessions for 92 para-social workers, school teachers, nurses and other local-level duty bearers in 6 districts | E39: RAM 2019 | F39: UNICEF | G39: =IF(F39="UNICEF",1,0) -> 1 | H39: Quant | I39: =IF(H39="Quant",1,0) -> 1 | J39: Does not apply | K39: =IF(J39="Yes",1,0) -> 0 | L39: Does not apply | M39: =IF(L39="Yes",1,0) -> 0 | N39: Yes | O39: =IF(N39="Yes",1,0) -> 1 | P39: Yes
